BEGIN:VCALENDAR
VERSION:2.0
PRODID:-//Rutgers Addiction Research Center (RARC) - ECPv6.7.0//NONSGML v1.0//EN
CALSCALE:GREGORIAN
METHOD:PUBLISH
X-ORIGINAL-URL:https://addiction.rutgers.edu
X-WR-CALDESC:Events for Rutgers Addiction Research Center (RARC)
REFRESH-INTERVAL;VALUE=DURATION:PT1H
X-Robots-Tag:noindex
X-PUBLISHED-TTL:PT1H
BEGIN:VTIMEZONE
TZID:America/New_York
BEGIN:DAYLIGHT
TZOFFSETFROM:-0500
TZOFFSETTO:-0400
TZNAME:EDT
DTSTART:20260308T070000
END:DAYLIGHT
BEGIN:STANDARD
TZOFFSETFROM:-0400
TZOFFSETTO:-0500
TZNAME:EST
DTSTART:20261101T060000
END:STANDARD
END:VTIMEZONE
BEGIN:VEVENT
DTSTART;TZID=America/New_York:20260519T080000
DTEND;TZID=America/New_York:20260520T170000
DTSTAMP:20260423T193833
CREATED:20260130T194948Z
LAST-MODIFIED:20260130T194948Z
UID:10749-1779177600-1779296400@addiction.rutgers.edu
SUMMARY:2026 Rutgers Health and Rutgers Brain Health Institute Postdoc Peek: Postdoc Recruitment Event
DESCRIPTION:Rutgers Health and Rutgers Brain Health Institute (BHI) invite senior graduate students and early postdoc fellows to apply for Postdoc Peek\, a two-day\, all-expenses-paid\, on-campus visit on May 19–20\, 2026. \nParticipants will explore postdoctoral training and research opportunities in a wide variety of disciplines at Rutgers\, connect with faculty\, and learn about life and research across Rutgers campuses. \nKey Dates: \n\nApplication submission deadline: February 23\nFaculty application review period: February 24 – March 23\nVirtual information session: March 23\, 12–2 PM\nFaculty Zoom interviews with top candidates: March 24 – April 6\nOn-campus visit for selected candidates: May 19–20\n\nPlease fill out this application form. If you have any questions\, require further information\, or have trouble submitting your application\, please don’t hesitate to reach out to us by email. \nFor more information\, click here.
URL:https://addiction.rutgers.edu/event/2026-rutgers-health-and-rutgers-brain-health-institute-postdoc-peek-postdoc-recruitment-event/
END:VEVENT
BEGIN:VEVENT
DTSTART;TZID=America/New_York:20260520T083000
DTEND;TZID=America/New_York:20260520T143000
DTSTAMP:20260423T193833
CREATED:20260109T200116Z
LAST-MODIFIED:20260109T200230Z
UID:10611-1779265800-1779287400@addiction.rutgers.edu
SUMMARY:Advancing Health Through Research - Clinical Trials Day 2026
DESCRIPTION:Rutgers Health invites you to participate in Clinical Trials Day 2026\, a multi-site event celebrating the vital role of clinical research professionals and the future of the translational science workforce. The event will feature in-person programming with virtual elements at Rutgers Cancer Institute\, Rutgers–Newark\, and Rutgers–New Brunswick\, bringing together students\, faculty\, industry partners\, and community members. Registration is required\, and opportunities are available to attend\, submit abstracts\, or become a sponsor. \nFormat: In-person with virtual elements \nCLICK HERE TO REGISTER \n 
URL:https://addiction.rutgers.edu/event/advancing-health-through-research-clinical-trials-day-2026/
END:VEVENT
BEGIN:VEVENT
DTSTART;TZID=America/New_York:20260529T100000
DTEND;TZID=America/New_York:20260529T120000
DTSTAMP:20260423T193833
CREATED:20260129T204525Z
LAST-MODIFIED:20260129T204525Z
UID:10735-1780048800-1780056000@addiction.rutgers.edu
SUMMARY:GSAPP Webinar - Medical and Legal Marijuana in NJ: Practice and Policy Issues
DESCRIPTION:The goal of this interactive workshop is to identify the changes that have occurred in the NJ Medicinal Marijuana Program. The history of marijuana legalization and major events that have shaped this history are discussed. Known scientific research on the benefits of medicinal marijuana and the risks associated with marijuana usage are covered\, as well as the continued barriers to better scientific research on this topic. Interactive exercises are incorporated. Other exercise includes the participants discussing how treatment is impacted by medicinal marijuana. \nLive Zoom Webinar \nInstructor: Glenn Duncan\, LPC\, LCADC\, CCS\, ACS \nInstructional Level: Introductory \nFor more information and registration\, click here.
URL:https://addiction.rutgers.edu/event/gsapp-webinar-medical-and-legal-marijuana-in-nj-practice-and-policy-issues-2/
LOCATION:Virtual
ORGANIZER;CN="Rutgers Graduate School of Applied and Professional Psychology":MAILTO:ce@gsapp.rutgers.edu
END:VEVENT
BEGIN:VEVENT
DTSTART;TZID=America/New_York:20261106T090000
DTEND;TZID=America/New_York:20261106T123000
DTSTAMP:20260423T193833
CREATED:20260323T204516Z
LAST-MODIFIED:20260323T204516Z
UID:10952-1793955600-1793968200@addiction.rutgers.edu
SUMMARY:GSAPP Webinar - Harm Reduction Psychotherapy for Substance Use and Other Addictive Behaviors
DESCRIPTION:This training will provide a clinical roadmap of harm reduction psychotherapy as a compassionate\, non-judgmental framework for engaging and treating clients navigating active substance use and addictive behaviors. Moving beyond traditional abstinence-only models\, this approach empowers clinicians to support a range of client-directed goals\, including abstinence\, moderation\, and safer use. Discussions will also focus on how to address the co-occurring complexities accompanying substance use such as a history of trauma\, relationship issues\, and mood and anxiety disorders. Therapeutic strategies to build compassion and collaboratively establish sustainable positive changes will be reviewed. Participants will gain practical skills to foster a collaborative therapeutic alliance\, help clients cultivate mindfulness practices\, and develop self-regulation skills. \nLearning Objectives \n\nIdentify three core principles of harm reduction psychotherapy.\nSummarize the efficacy of harm reduction strategies. \nDescribe how “urge surfing” can help with managing cravings and emotional triggers.\n\nInstructor Bio \nJenifer Levy\, PhD is a licensed psychologist with a private practice serving clients in New York\, New Jersey\, and Connecticut.  Dr. Levy specializes in the treatment of addictive issues and trauma from a harm reduction framework that is collaborative\, compassionate\, and non-judgmental. Dr. Levy obtained her PhD in Clinical Psychology from Virginia Tech and completed her internship and post-doctoral fellowship at Princeton House Behavioral Health. She previously worked as the Assistant Director of The Center for Optimal Living\, an outpatient private practice in NYC\, where she coordinated clinical services and training activities along with providing psychotherapy. She also taught and supervised graduate students in psychology as the Assistant Director of the Concentration in Mental Health and Substance Abuse Counseling at The New School for Social Research. Prior to that\, she was a Supervising Psychologist at the Women’s Health Project at St. Luke’s-Roosevelt Hospital in NYC. In addition to offering psychotherapy services\, Dr. Levy facilitates trainings on a range of topics related to addictive issues\, harm reduction\, mindfulness approaches\, and working with trauma survivors.
URL:https://addiction.rutgers.edu/event/gsapp-webinar-harm-reduction-psychotherapy-for-substance-use-and-other-addictive-behaviors/
LOCATION:Virtual
ORGANIZER;CN="Rutgers Graduate School of Applied and Professional Psychology":MAILTO:ce@gsapp.rutgers.edu
END:VEVENT
END:VCALENDAR