BEGIN:VCALENDAR
VERSION:2.0
PRODID:-//Rutgers Addiction Research Center (RARC) - ECPv6.7.0//NONSGML v1.0//EN
CALSCALE:GREGORIAN
METHOD:PUBLISH
X-WR-CALNAME:Rutgers Addiction Research Center (RARC)
X-ORIGINAL-URL:https://addiction.rutgers.edu
X-WR-CALDESC:Events for Rutgers Addiction Research Center (RARC)
REFRESH-INTERVAL;VALUE=DURATION:PT1H
X-Robots-Tag:noindex
X-PUBLISHED-TTL:PT1H
BEGIN:VTIMEZONE
TZID:America/New_York
BEGIN:DAYLIGHT
TZOFFSETFROM:-0500
TZOFFSETTO:-0400
TZNAME:EDT
DTSTART:20260308T070000
END:DAYLIGHT
BEGIN:STANDARD
TZOFFSETFROM:-0400
TZOFFSETTO:-0500
TZNAME:EST
DTSTART:20261101T060000
END:STANDARD
END:VTIMEZONE
BEGIN:VEVENT
DTSTART;TZID=America/New_York:20260529T100000
DTEND;TZID=America/New_York:20260529T120000
DTSTAMP:20260423T085418
CREATED:20260129T204525Z
LAST-MODIFIED:20260129T204525Z
UID:10735-1780048800-1780056000@addiction.rutgers.edu
SUMMARY:GSAPP Webinar - Medical and Legal Marijuana in NJ: Practice and Policy Issues
DESCRIPTION:The goal of this interactive workshop is to identify the changes that have occurred in the NJ Medicinal Marijuana Program. The history of marijuana legalization and major events that have shaped this history are discussed. Known scientific research on the benefits of medicinal marijuana and the risks associated with marijuana usage are covered\, as well as the continued barriers to better scientific research on this topic. Interactive exercises are incorporated. Other exercise includes the participants discussing how treatment is impacted by medicinal marijuana. \nLive Zoom Webinar \nInstructor: Glenn Duncan\, LPC\, LCADC\, CCS\, ACS \nInstructional Level: Introductory \nFor more information and registration\, click here.
URL:https://addiction.rutgers.edu/event/gsapp-webinar-medical-and-legal-marijuana-in-nj-practice-and-policy-issues-2/
LOCATION:Virtual
ORGANIZER;CN="Rutgers Graduate School of Applied and Professional Psychology":MAILTO:ce@gsapp.rutgers.edu
END:VEVENT
END:VCALENDAR