BEGIN:VCALENDAR
VERSION:2.0
PRODID:-//Rutgers Addiction Research Center (RARC) - ECPv6.7.0//NONSGML v1.0//EN
CALSCALE:GREGORIAN
METHOD:PUBLISH
X-ORIGINAL-URL:https://addiction.rutgers.edu
X-WR-CALDESC:Events for Rutgers Addiction Research Center (RARC)
REFRESH-INTERVAL;VALUE=DURATION:PT1H
X-Robots-Tag:noindex
X-PUBLISHED-TTL:PT1H
BEGIN:VTIMEZONE
TZID:America/New_York
BEGIN:DAYLIGHT
TZOFFSETFROM:-0500
TZOFFSETTO:-0400
TZNAME:EDT
DTSTART:20260308T070000
END:DAYLIGHT
BEGIN:STANDARD
TZOFFSETFROM:-0400
TZOFFSETTO:-0500
TZNAME:EST
DTSTART:20261101T060000
END:STANDARD
END:VTIMEZONE
BEGIN:VEVENT
DTSTART;TZID=America/New_York:20260212T120000
DTEND;TZID=America/New_York:20260212T130000
DTSTAMP:20260423T194207
CREATED:20260129T172729Z
LAST-MODIFIED:20260129T172729Z
UID:10723-1770897600-1770901200@addiction.rutgers.edu
SUMMARY:Rutgers Center for Research on Ending Violence Presentation - Developing Measures of Feasibility\, Accessibility\, and Outcomes of Using Bystander Intervention for Problematic Alcohol Use
DESCRIPTION:Drs. Erika Montanaro and Annelise Mennicke (UNC Charlotte) will present work from an NIH-funded R15 examining how bystander intervention can be used to address problematic alcohol use. The talk will highlight the development and validation of measures assessing bystander feasibility\, accessibility\, and outcomes\, informed by focus groups and interviews with diverse college students. \n \nOpen to all and free of charge – RSVP to revcenter@ssw.rutgers.edu \n 
URL:https://addiction.rutgers.edu/event/rutgers-center-for-research-on-ending-violence-presentation-developing-measures-of-feasibility-accessibility-and-outcomes-of-using-bystander-intervention-for-problematic-alcohol-use/
LOCATION:REV Conference Room\, 123 Church Street\, New Brunswick
END:VEVENT
BEGIN:VEVENT
DTSTART;TZID=America/New_York:20260212T133000
DTEND;TZID=America/New_York:20260212T150000
DTSTAMP:20260423T194207
CREATED:20260129T173511Z
LAST-MODIFIED:20260129T173511Z
UID:10728-1770903000-1770908400@addiction.rutgers.edu
SUMMARY:Rutgers Center for Research on Ending Violence Group Activity - “The Good Friend Game”
DESCRIPTION:Rutgers’ Center for Research on Ending Violence will host “The Good Friend Game\,” an interactive\, tabletop group activity developed by partners at the UNC Charlotte Violence Prevention Center. Led by Drs. Annelise Mennicke and Erika Montanaro\, the session engages participants in thinking through realistic bystander intervention strategies in risky alcohol-related situations\, with a focus on building awareness\, responsibility\, and confidence to intervene. \n \nRSVP required to revcenter@ssw.rutgers.edu
URL:https://addiction.rutgers.edu/event/rutgers-center-for-research-on-ending-violence-group-activity-the-good-friend-game/
LOCATION:REV Conference Room\, 123 Church Street\, New Brunswick
END:VEVENT
END:VCALENDAR