BEGIN:VCALENDAR
VERSION:2.0
PRODID:-//Rutgers Addiction Research Center (RARC) - ECPv6.7.0//NONSGML v1.0//EN
CALSCALE:GREGORIAN
METHOD:PUBLISH
X-WR-CALNAME:Rutgers Addiction Research Center (RARC)
X-ORIGINAL-URL:https://addiction.rutgers.edu
X-WR-CALDESC:Events for Rutgers Addiction Research Center (RARC)
REFRESH-INTERVAL;VALUE=DURATION:PT1H
X-Robots-Tag:noindex
X-PUBLISHED-TTL:PT1H
BEGIN:VTIMEZONE
TZID:America/New_York
BEGIN:DAYLIGHT
TZOFFSETFROM:-0500
TZOFFSETTO:-0400
TZNAME:EDT
DTSTART:20260308T070000
END:DAYLIGHT
BEGIN:STANDARD
TZOFFSETFROM:-0400
TZOFFSETTO:-0500
TZNAME:EST
DTSTART:20261101T060000
END:STANDARD
END:VTIMEZONE
BEGIN:VEVENT
DTSTART;TZID=America/New_York:20260105T093000
DTEND;TZID=America/New_York:20260105T123000
DTSTAMP:20260423T194424
CREATED:20251216T175613Z
LAST-MODIFIED:20251216T175650Z
UID:10553-1767605400-1767616200@addiction.rutgers.edu
SUMMARY:SSW Webinar - Not Just Benzodiazepines: Alternative Treatments of Anxiety and Depression
DESCRIPTION:The primary goal of this webinar is to explore non-pharmaceutical treatment of depression and anxiety. The number of people looking for non-pharmaceutical interventions is increasing in both the psychiatric and addiction fields. One need look no further than the desire to decrease benzodiazepine (BZD) use. Treatments to be discussed include herbal and amino acid substances as well as vagal nerve stimulation. \n\nFor more information\, click here. \n\n\nObjectives\n\nAt the conclusion of this webinar\, participants will be able to: \n\nSummarize the advantages and disadvantages of BZDs\nList three herbal medications used to treat depression\nDescribe the mechanism by which some amino acids work in the brain\nExplain the effects of using vagal nerve stimulation to treat depression\nDefine three alternatives to benzodiazepines for treating anxiety
URL:https://addiction.rutgers.edu/event/https-socialwork-ce-rutgers-edu-index-php-product-2395v6489/
LOCATION:Virtual
END:VEVENT
BEGIN:VEVENT
DTSTART;TZID=America/New_York:20260105T130000
DTEND;TZID=America/New_York:20260105T160000
DTSTAMP:20260423T194424
CREATED:20251216T180406Z
LAST-MODIFIED:20251216T180406Z
UID:10556-1767618000-1767628800@addiction.rutgers.edu
SUMMARY:SSW Webinar - Social Media's Influence on Self-Harm Behaviors and Self-Regulation
DESCRIPTION:This webinar will begin with an introduction to how social media influences both self-esteem and self-regulating behaviors. We will then move into examining various social media outlets. Newer social media outlets will be explored including the level of involvement different age groups and genders have with them. Finally\, the webinar will move into social medias influence on self-regulating behaviors. The webinar will provide strategies for lessening clients exposure to social media. [Elective for Eating Disorders Clinical Certificate Program] \nFor more information\, click here. \nObjectives\nAt the conclusion of this webinar\, participants will be able to: \n\nList and describe different types of self-harm behaviors including substance use\, self-mutilation\, and disordered eating\nExplain new strategies for bringing self-harm behaviors into the therapy conversation\nList and describe different social media outlets\nReview current trends for social media usage among different age groups and genders\nDescribe the influence of increasing social media exposure and negative behaviors (such as poor body image or disordered eating)\nIdentify strategies for reducing social media usage in clients and raising awareness of social media influence.
URL:https://addiction.rutgers.edu/event/ssw-webinar-social-medias-influence-on-self-harm-behaviors-and-self-regulation/
LOCATION:Virtual
END:VEVENT
BEGIN:VEVENT
DTSTART;TZID=America/New_York:20260105T140000
DTEND;TZID=America/New_York:20260109T153000
DTSTAMP:20260423T194424
CREATED:20250923T182223Z
LAST-MODIFIED:20250923T182223Z
UID:10100-1767621600-1767972600@addiction.rutgers.edu
SUMMARY:NIH Grant Writing Mini-Course
DESCRIPTION:New to NIH grants? NJACTS is offering a 5-session virtual mini-course (daily\, 2–3:30 pm ET on Zoom) to demystify K & R applications\, with practical guidance from a grant-writing coach and recent awardees. Open to trainees\, postdocs\, fellows\, faculty\, instructors\, and clinicians at U.S.-based institutions (Rutgers affiliation not required). \nEnrollment closes Dec 12. \nLearn more: https://form.jotform.com/243153997988176
URL:https://addiction.rutgers.edu/event/nih-grant-writing-mini-course/
LOCATION:Virtual
END:VEVENT
END:VCALENDAR