BEGIN:VCALENDAR
VERSION:2.0
PRODID:-//Rutgers Addiction Research Center (RARC) - ECPv6.7.0//NONSGML v1.0//EN
CALSCALE:GREGORIAN
METHOD:PUBLISH
X-WR-CALNAME:Rutgers Addiction Research Center (RARC)
X-ORIGINAL-URL:https://addiction.rutgers.edu
X-WR-CALDESC:Events for Rutgers Addiction Research Center (RARC)
REFRESH-INTERVAL;VALUE=DURATION:PT1H
X-Robots-Tag:noindex
X-PUBLISHED-TTL:PT1H
BEGIN:VTIMEZONE
TZID:America/New_York
BEGIN:DAYLIGHT
TZOFFSETFROM:-0500
TZOFFSETTO:-0400
TZNAME:EDT
DTSTART:20250309T070000
END:DAYLIGHT
BEGIN:STANDARD
TZOFFSETFROM:-0400
TZOFFSETTO:-0500
TZNAME:EST
DTSTART:20251102T060000
END:STANDARD
END:VTIMEZONE
BEGIN:VEVENT
DTSTART;TZID=America/New_York:20251218T130000
DTEND;TZID=America/New_York:20251218T140000
DTSTAMP:20260423T045609
CREATED:20251212T192723Z
LAST-MODIFIED:20251212T192723Z
UID:10547-1766062800-1766066400@addiction.rutgers.edu
SUMMARY:Mobilize Recovery - Fireside Chat with Tom Farley & Ryan Hampton: Navigating the Holidays in Recovery
DESCRIPTION:The holiday season can be a time of joy—but it can also bring stress\, loneliness\, and complicated emotions\, especially for people in or affected by recovery. To offer support\, perspective\, and connection\, Tom Farley from Recovery.com and Mobilize Recovery’s Co-Founder Ryan Hampton will be hosting a live\, virtual Fireside Chat on December 18th. Together\, they’ll discuss practical ways to stay grounded\, connected\, and supported during a season that isn’t always easy. \nThis free\, live discussion is open to all. RSVP on this page to receive reminders and the link to tune in. \nTo RSVP\, click here.
URL:https://addiction.rutgers.edu/event/mobilize-recovery-fireside-chat-with-tom-farley-ryan-hampton-navigating-the-holidays-in-recovery/
LOCATION:Virtual
END:VEVENT
END:VCALENDAR