BEGIN:VCALENDAR
VERSION:2.0
PRODID:-//Rutgers Addiction Research Center (RARC) - ECPv6.7.0//NONSGML v1.0//EN
CALSCALE:GREGORIAN
METHOD:PUBLISH
X-ORIGINAL-URL:https://addiction.rutgers.edu
X-WR-CALDESC:Events for Rutgers Addiction Research Center (RARC)
REFRESH-INTERVAL;VALUE=DURATION:PT1H
X-Robots-Tag:noindex
X-PUBLISHED-TTL:PT1H
BEGIN:VTIMEZONE
TZID:America/New_York
BEGIN:DAYLIGHT
TZOFFSETFROM:-0500
TZOFFSETTO:-0400
TZNAME:EDT
DTSTART:20250309T070000
END:DAYLIGHT
BEGIN:STANDARD
TZOFFSETFROM:-0400
TZOFFSETTO:-0500
TZNAME:EST
DTSTART:20251102T060000
END:STANDARD
END:VTIMEZONE
BEGIN:VEVENT
DTSTART;TZID=America/New_York:20250614T080000
DTEND;TZID=America/New_York:20250618T170000
DTSTAMP:20260421T105037
CREATED:20250522T181215Z
LAST-MODIFIED:20250522T181215Z
UID:9705-1749888000-1750266000@addiction.rutgers.edu
SUMMARY:CPDD Annual Meeting
DESCRIPTION:CPDD provides a national and international forum for scientists of diverse backgrounds to advance the understanding of molecular-neurobiological aspects of addictive disorders and\, by the application of new scientific knowledge\, to improve and develop treatments utilizing novel behavioral and pharmacological therapies.\nSince 1938\, a major focus of the CPDD’s activities has been its sponsorship of an annual scientific meeting. This conference serves as a forum bringing together basic scientists and clinical investigators from industry\, academia\, and government. Representatives of regulatory agencies\, as well as scientists and professionals in a number of diverse disciplines interested in the biochemical\, behavioral\, and public health aspects of drug dependence participate. We expect to have approximately 1\,300 attendees for the 2025 meeting\, including many international attendees who come for the CPDD meeting as well as the NIDA International Forum. \nFor more information\, click here. \n 
URL:https://addiction.rutgers.edu/event/cpdd-annual-meeting/
LOCATION:Sheraton New Orleans Hotel\, New Orleans
END:VEVENT
BEGIN:VEVENT
DTSTART;TZID=America/New_York:20250617T093000
DTEND;TZID=America/New_York:20250617T123000
DTSTAMP:20260421T105037
CREATED:20250415T155339Z
LAST-MODIFIED:20250415T155339Z
UID:9593-1750152600-1750163400@addiction.rutgers.edu
SUMMARY:SSW Webinar - Medical and Legal Marijuana in NJ: Practice and Policy Issues
DESCRIPTION:The goal of this interactive webinar is to identify the changes that have occurred in the NJ Medical Marijuana Program. The history of marijuana legalization and major events that have shaped this history are discussed. Known scientific research on the benefits of medical marijuana and the risks associated with marijuana usage are covered\, as well as the continued barriers to better scientific research on this topic. Interactive exercises are incorporated in order to have participants analyze child custody issues for clients who are on the NJ medical marijuana program. Other exercises include the participants discussing how treatment is impacted by medical marijuana and participants will analyze under what conditions there would be a “duty to report” a coworker on medical marijuana. \n\n\n\nInstructor: \nGlenn Duncan\, LPC\, LCADC\, CCS\, ACS\n\n\nDate: \nTuesday\, June 17\, 2025\n\n\nTime: \n9:30 am – 12:30 pm ET\n\n\nLocation: \nLive Interactive Online Webinar\n\n\n\nAt the conclusion of this webinar\, participants will be able to: \n\nInterpret three changes that have occurred since 2019 in the NJ Medicinal Marijuana Program\nDetermine the situations where the use of medicinal marijuana influence child custody issues\nAnalyze whether to continue services for a client on medicinal marijuana if their only diagnosis is cannabis use disorder\nIdentify at least three key historical events that shaped marijuana’s legal status in the United States
URL:https://addiction.rutgers.edu/event/ssw-webinar-medical-and-legal-marijuana-in-nj-practice-and-policy-issues-5/
LOCATION:Virtual
END:VEVENT
END:VCALENDAR