BEGIN:VCALENDAR
VERSION:2.0
PRODID:-//Rutgers Addiction Research Center (RARC) - ECPv6.7.0//NONSGML v1.0//EN
CALSCALE:GREGORIAN
METHOD:PUBLISH
X-ORIGINAL-URL:https://addiction.rutgers.edu
X-WR-CALDESC:Events for Rutgers Addiction Research Center (RARC)
REFRESH-INTERVAL;VALUE=DURATION:PT1H
X-Robots-Tag:noindex
X-PUBLISHED-TTL:PT1H
BEGIN:VTIMEZONE
TZID:America/New_York
BEGIN:DAYLIGHT
TZOFFSETFROM:-0500
TZOFFSETTO:-0400
TZNAME:EDT
DTSTART:20250309T070000
END:DAYLIGHT
BEGIN:STANDARD
TZOFFSETFROM:-0400
TZOFFSETTO:-0500
TZNAME:EST
DTSTART:20251102T060000
END:STANDARD
END:VTIMEZONE
BEGIN:VEVENT
DTSTART;TZID=America/New_York:20250311T110000
DTEND;TZID=America/New_York:20250311T120000
DTSTAMP:20260424T082304
CREATED:20250305T211903Z
LAST-MODIFIED:20250305T211903Z
UID:9292-1741690800-1741694400@addiction.rutgers.edu
SUMMARY:Rutgers Psychiatry Grand Rounds - RWJMS General Psychiatry Residents - Dr. Megan Chang and Dr. Echelle Cho
DESCRIPTION:The Rutgers Department of Psychiatry is pleased to invite you join to us for our Grand Rounds Session on Tuesday\, March 11\, 2025 @ 11AM. This is a notably exciting presentation because we will hear from two of our General Psychiatry Residents from RWJMS. \nZoom link: https://rutgers.zoom.us/j/96856675957?pwd=IJbP9ufV9wvxPzCT4NFMazYimfZah5.1 \nMeeting ID: 968 5667 5957\nPassword: 710148
URL:https://addiction.rutgers.edu/event/rutgers-psychiatry-grand-rounds-rwjms-general-psychiatry-residents-dr-megan-chang-and-dr-echelle-cho/
LOCATION:Virtual
END:VEVENT
END:VCALENDAR