BEGIN:VCALENDAR
VERSION:2.0
PRODID:-//Rutgers Addiction Research Center (RARC) - ECPv6.7.0//NONSGML v1.0//EN
CALSCALE:GREGORIAN
METHOD:PUBLISH
X-ORIGINAL-URL:https://addiction.rutgers.edu
X-WR-CALDESC:Events for Rutgers Addiction Research Center (RARC)
REFRESH-INTERVAL;VALUE=DURATION:PT1H
X-Robots-Tag:noindex
X-PUBLISHED-TTL:PT1H
BEGIN:VTIMEZONE
TZID:America/New_York
BEGIN:DAYLIGHT
TZOFFSETFROM:-0500
TZOFFSETTO:-0400
TZNAME:EDT
DTSTART:20240310T070000
END:DAYLIGHT
BEGIN:STANDARD
TZOFFSETFROM:-0400
TZOFFSETTO:-0500
TZNAME:EST
DTSTART:20241103T060000
END:STANDARD
END:VTIMEZONE
BEGIN:VEVENT
DTSTART;TZID=America/New_York:20241220T080000
DTEND;TZID=America/New_York:20241220T170000
DTSTAMP:20260422T112219
CREATED:20241210T180437Z
LAST-MODIFIED:20241210T180437Z
UID:8761-1734681600-1734714000@addiction.rutgers.edu
SUMMARY:NJPN Professional Development Day
DESCRIPTION:We’re excited to invite you to our next virtual Professional Development Day on December 20\, 2024 hosted by NJPN. Take the first step in advancing your career by signing up for a personalized session designed to explore career options that align with your goals! \n Available Virtual Sessions on December 20: \nPrevention: Schedule Here \nClinical Training (LCADC/CADC): Schedule Here \nPeer Recovery Support: Schedule Here \nOnce you schedule an appointment\, you will experience a tailored service that includes: \n\nPersonalized Evaluation: We will review any training programs you’re interested in pursuing\, such as CPS\, CADC\, LCADC\, CDA\, CPRS\, or NCPRSS\, to help you identify the right path forward.\nComprehensive Review: Our team will evaluate any NJPN coursework you’ve completed\, ensuring your past achievements are recognized and can guide your next steps.\nNew Opportunities: Explore fresh training avenues and certification possibilities to unlock exciting professional growth and success.\n\nThis event is a fantastic opportunity to enhance your career and take advantage of free services designed to help you succeed. \nEvent Highlights: \n\nIndividualized Services: Receive career exploration support\, training guidance\, and advice tailored to your goals.\nExclusive Sessions Available: Sign up for a one-on-one\, 30-minute virtual session to explore career options in your field.
URL:https://addiction.rutgers.edu/event/njpn-professional-development-day/
LOCATION:New Jersey Prevention Network
END:VEVENT
END:VCALENDAR