BEGIN:VCALENDAR
VERSION:2.0
PRODID:-//Rutgers Addiction Research Center (RARC) - ECPv6.7.0//NONSGML v1.0//EN
CALSCALE:GREGORIAN
METHOD:PUBLISH
X-ORIGINAL-URL:https://addiction.rutgers.edu
X-WR-CALDESC:Events for Rutgers Addiction Research Center (RARC)
REFRESH-INTERVAL;VALUE=DURATION:PT1H
X-Robots-Tag:noindex
X-PUBLISHED-TTL:PT1H
BEGIN:VTIMEZONE
TZID:America/New_York
BEGIN:DAYLIGHT
TZOFFSETFROM:-0500
TZOFFSETTO:-0400
TZNAME:EDT
DTSTART:20240310T070000
END:DAYLIGHT
BEGIN:STANDARD
TZOFFSETFROM:-0400
TZOFFSETTO:-0500
TZNAME:EST
DTSTART:20241103T060000
END:STANDARD
END:VTIMEZONE
BEGIN:VEVENT
DTSTART;TZID=America/New_York:20241218T140000
DTEND;TZID=America/New_York:20241218T150000
DTSTAMP:20260424T005227
CREATED:20241206T150541Z
LAST-MODIFIED:20241206T150541Z
UID:8752-1734530400-1734534000@addiction.rutgers.edu
SUMMARY:Responsive Care: The Experiences of Women and Children along the Care Continuum in Rural Communities
DESCRIPTION:As the number of individuals who are challenged by substance use and mental health continue to be on the rise\, we are at a crossroads when it comes to the care of women and their children. While the number of programs who offer specific services to women and their children are increasing across the state\, there continues to be need for more gender-responsive programming in substance use and mental health programs to address the unique needs of women and their children. This challenge is even more significant in rural communities where there are significant barriers to service accessibility. This workshop will lean into specific challenges as they relate to women impacted by both substance use and mental health concerns and the impact on children in their care. \nPresenter: Dr. Delores Blackwell\, LCSW\, is a multijurisdictional licensed clinical social worker. She has held numerous administrative and clinical positions within both the addictions and mental health disciplines. She is an adjunct professor at both Touro College and Hunter College Silberman Schools of Social Work. In conjunction with her numerous roles\, she also conducts and develops trainings for mental health and addictions professionals in both direct practice and leadership positions. She is currently a Research Project Manager at the New York State Psychiatric Institute at Columbia University Medical Center\, where she works with the Opioid Response Network and Rural Opioid Technical Assistance Center within the Northeast and Caribbean (HHS Region 2).
URL:https://addiction.rutgers.edu/event/responsive-care-the-experiences-of-women-and-children-along-the-care-continuum-in-rural-communities/
LOCATION:Virtual
END:VEVENT
END:VCALENDAR