BEGIN:VCALENDAR
VERSION:2.0
PRODID:-//Rutgers Addiction Research Center (RARC) - ECPv6.7.0//NONSGML v1.0//EN
CALSCALE:GREGORIAN
METHOD:PUBLISH
X-ORIGINAL-URL:https://addiction.rutgers.edu
X-WR-CALDESC:Events for Rutgers Addiction Research Center (RARC)
REFRESH-INTERVAL;VALUE=DURATION:PT1H
X-Robots-Tag:noindex
X-PUBLISHED-TTL:PT1H
BEGIN:VTIMEZONE
TZID:America/New_York
BEGIN:DAYLIGHT
TZOFFSETFROM:-0500
TZOFFSETTO:-0400
TZNAME:EDT
DTSTART:20240310T070000
END:DAYLIGHT
BEGIN:STANDARD
TZOFFSETFROM:-0400
TZOFFSETTO:-0500
TZNAME:EST
DTSTART:20241103T060000
END:STANDARD
END:VTIMEZONE
BEGIN:VEVENT
DTSTART;TZID=America/New_York:20241212T110000
DTEND;TZID=America/New_York:20241212T120000
DTSTAMP:20260424T082917
CREATED:20241206T142330Z
LAST-MODIFIED:20241206T142412Z
UID:8738-1734001200-1734004800@addiction.rutgers.edu
SUMMARY:The Opioid Crisis: Where We Stand as 2024 Concludes"
DESCRIPTION:Registration: CLICK HERE \nAt the conclusion of this presentation\, the learner should be better able to:\no Describe the prescription drug and opioid epidemic in their community\no Recognize the scope of the opioid epidemic through data on drug seizures\, overdose deaths\, naloxone administrations and other measures\no Work with their care team to address the epidemic of opioid addiction and the rising levels of misuse and deaths by recognizing the impact of diversion\, harm reduction\, and knowing signs and symptoms \nPanelists: \nLewis S. Nelson is Professor and Chair of the Department of Emergency Medicine and Chief of the Division of Medical Toxicology at Rutgers New Jersey Medical School\, in Newark\, NJ. He is board certified in emergency medicine\, medical toxicology\, and addiction medicine. Dr. Nelson serves as a long-standing consultant to the CDC\, DHS\, and FDA and works closely with several professional organizations addressing the medical and social consequences of substance use. His areas of interest include non-opioid pain relief strategies\, opioid overdose and management\, addiction and withdrawal management\, and health policy focused on issues related to medication safety and substance use. \nNew Jersey State Police Captain Jason Piotrowski embarked on his law enforcement career in 1995\, starting as a local police officer before joining the New Jersey State Police in 2001. Commencing as a general duty road trooper\, he was later selected as an inaugural member of the state fusion center in 2006. From 2014 to 2023\, Jason played a pivotal role in the development and leadership of the New Jersey Drug Monitoring Initiative\, focusing on data collection\, analysis\, intelligence production\, and comprehensive training and outreach efforts. Currently\, he serves as the Executive Officer in the Forensic and Technical Services Section. In addition to his law enforcement duties\, Captain Piotrowski is a Bloomberg American Health Initiative Fellow and an MPH Candidate at Johns Hopkins University.
URL:https://addiction.rutgers.edu/event/the-opioid-crisis-where-we-stand-as-2024-concludes/
LOCATION:Virtual
END:VEVENT
END:VCALENDAR