BEGIN:VCALENDAR
VERSION:2.0
PRODID:-//Rutgers Addiction Research Center (RARC) - ECPv6.7.0//NONSGML v1.0//EN
CALSCALE:GREGORIAN
METHOD:PUBLISH
X-ORIGINAL-URL:https://addiction.rutgers.edu
X-WR-CALDESC:Events for Rutgers Addiction Research Center (RARC)
REFRESH-INTERVAL;VALUE=DURATION:PT1H
X-Robots-Tag:noindex
X-PUBLISHED-TTL:PT1H
BEGIN:VTIMEZONE
TZID:America/New_York
BEGIN:DAYLIGHT
TZOFFSETFROM:-0500
TZOFFSETTO:-0400
TZNAME:EDT
DTSTART:20240310T070000
END:DAYLIGHT
BEGIN:STANDARD
TZOFFSETFROM:-0400
TZOFFSETTO:-0500
TZNAME:EST
DTSTART:20241103T060000
END:STANDARD
END:VTIMEZONE
BEGIN:VEVENT
DTSTART;TZID=America/New_York:20241111T140000
DTEND;TZID=America/New_York:20241111T153000
DTSTAMP:20260424T005227
CREATED:20241008T135618Z
LAST-MODIFIED:20241008T135710Z
UID:8406-1731333600-1731339000@addiction.rutgers.edu
SUMMARY:CST Virtual Workshop - Effective Science Communication: Balancing Simplicity and Impact
DESCRIPTION:This workshop will offer tools for effectively communicating complex scientific discoveries to diverse audiences\, with a focus on distilling research projects into clear\, simple\, and impactful messages. \nFor more information and registration\, click here.
URL:https://addiction.rutgers.edu/event/cst-virtual-workshop-effective-science-communication-balancing-simplicity-and-impact/
LOCATION:Virtual
END:VEVENT
END:VCALENDAR