BEGIN:VCALENDAR
VERSION:2.0
PRODID:-//Rutgers Addiction Research Center (RARC) - ECPv6.7.0//NONSGML v1.0//EN
CALSCALE:GREGORIAN
METHOD:PUBLISH
X-ORIGINAL-URL:https://addiction.rutgers.edu
X-WR-CALDESC:Events for Rutgers Addiction Research Center (RARC)
REFRESH-INTERVAL;VALUE=DURATION:PT1H
X-Robots-Tag:noindex
X-PUBLISHED-TTL:PT1H
BEGIN:VTIMEZONE
TZID:America/New_York
BEGIN:DAYLIGHT
TZOFFSETFROM:-0500
TZOFFSETTO:-0400
TZNAME:EDT
DTSTART:20240310T070000
END:DAYLIGHT
BEGIN:STANDARD
TZOFFSETFROM:-0400
TZOFFSETTO:-0500
TZNAME:EST
DTSTART:20241103T060000
END:STANDARD
END:VTIMEZONE
BEGIN:VEVENT
DTSTART;TZID=America/New_York:20241029T100000
DTEND;TZID=America/New_York:20241029T123000
DTSTAMP:20260424T003858
CREATED:20240823T132927Z
LAST-MODIFIED:20240823T133042Z
UID:7853-1730196000-1730205000@addiction.rutgers.edu
SUMMARY:16th Annual Pioneers in Endocrinology Workshop - “Endocrinology of Pregnancy”
DESCRIPTION:Presenters: \nTerry K. Morgan\, MD\, PhD\nDr. Terry K. Morgan is a Professor of Pathology\, Obstetrics & Gynecology\, and Biomedical Engineering at Oregon Health & Science University (OHSU). He also serves as the Program Director of the Cytopathology Fellowship and Associate Director for the Center for Developmental Health at OHSU. Dr. Morgan’s research involves determining how uteroplacental vascular remodeling during pregnancy affects blood flow to the placenta leading to common maternal pregnancy complications and fetal programming of adult-onset disease in their progeny. His research also aims to develop and validate new methods to screen patient blood samples for cell- and size-specific extracellular vesicles (EVs) for diagnostics and sorting for further biomarker development. \nKjersti Aagaard\, MD\, PhD\, FACOG\nDr. Kjersti Aagaard is the National Director of Perinatal Research and Medical Director of Maternal Fetal Medicine of Texas at HCA Healthcare. Dr. Aagaard serves as a Research Scientist at the Maternal Fetal Care Center in the Division of Fetal Medicine and Surgery at Boston Children’s Hospital\, Harvard Medical School. Dr. Aagaard’s research focuses on the role of the microbiome in pregnancy and early developmental programming\, and the impact of key exposures in pregnancy on fetal development and later in life. Her additional research interests include emerging obstetrical infectious diseases\, preterm birth\, diabetes and hypertensive disorders in pregnancy\, maternal smoking and environmental exposures\, and detection and diagnosis of congenital and genetic anomalies. \nDate: Tuesday\, October 29\, 2024\, 10 a.m. to 12:30 p.m. \nLocation: Busch Student Center\, 604 Bartholomew Road\, Piscataway\, NJ 08854-8002 \nLuncheon: 12:30 to 1:30 p.m. (in-person\, Multipurpose Room)\nPoster Presentations: 1:30 to 3 p.m. (in-person\, International Lounge) Featuring the most current endocrine research at Rutgers
URL:https://addiction.rutgers.edu/event/16th-annual-pioneers-in-endocrinology-workshop-endocrinology-of-pregnancy/
LOCATION:Busch Student Center\, 604 Bartholomew Rd\, Piscataway\, NJ\, 08854
END:VEVENT
BEGIN:VEVENT
DTSTART;TZID=America/New_York:20241029T100000
DTEND;TZID=America/New_York:20241029T150000
DTSTAMP:20260424T003858
CREATED:20240913T144321Z
LAST-MODIFIED:20240913T144321Z
UID:8203-1730196000-1730214000@addiction.rutgers.edu
SUMMARY:16th Annual Pioneers in Endocrinology Workshop - Theme: Endocrinology of Pregnancy
DESCRIPTION:To register for the event and/or to submit an abstract for the poster presentation\, please visit https://endocrine.rutgers.edu/pioneers/. The registration deadline is Monday\, October 21\, 2024. \nSCIENTIFIC PRESENTATIONS (10 AM – 12:30 PM)\n\n\n\n“Everything We Think We Know About Placental Extracellular Vesicles May Be Wrong: NanoFACS Is a Solution”\nTerry K. Morgan\, MD\, PhD\nProfessor of Pathology\, Obstetrics & Gynecology\, and Biomedical Engineering\nOregon Health & Science University \n— \n\n\n\n“Sweet Beginnings and Sour Ends: Role of Maternal Diet\, Diabetes and Metformin on Fetal Programming”\nKjersti Aagaard\, MD\, PhD\, FACOG\nNational Director of Perinatal Research and Medical Director of Maternal Fetal Medicine of Texas\nHCA Healthcare\nResearch Scientist\, Maternal Fetal Care Center\, Division of Fetal Medicine and Surgery\nBoston Children’s Hospital\, Harvard Medical School \n— \n\n\nLUNCHEON (12:30 PM – 1:30 PM)\nPOSTER PRESENTATIONS (1:30 PM – 3 PM)
URL:https://addiction.rutgers.edu/event/16th-annual-pioneers-in-endocrinology-workshop-theme-endocrinology-of-pregnancy/
LOCATION:Busch Student Center\, 604 Bartholomew Rd\, Piscataway\, NJ\, 08854
END:VEVENT
END:VCALENDAR