BEGIN:VCALENDAR
VERSION:2.0
PRODID:-//Rutgers Addiction Research Center (RARC) - ECPv6.7.0//NONSGML v1.0//EN
CALSCALE:GREGORIAN
METHOD:PUBLISH
X-ORIGINAL-URL:https://addiction.rutgers.edu
X-WR-CALDESC:Events for Rutgers Addiction Research Center (RARC)
REFRESH-INTERVAL;VALUE=DURATION:PT1H
X-Robots-Tag:noindex
X-PUBLISHED-TTL:PT1H
BEGIN:VTIMEZONE
TZID:America/New_York
BEGIN:DAYLIGHT
TZOFFSETFROM:-0500
TZOFFSETTO:-0400
TZNAME:EDT
DTSTART:20240310T070000
END:DAYLIGHT
BEGIN:STANDARD
TZOFFSETFROM:-0400
TZOFFSETTO:-0500
TZNAME:EST
DTSTART:20241103T060000
END:STANDARD
END:VTIMEZONE
BEGIN:VEVENT
DTSTART;TZID=America/New_York:20241024T080000
DTEND;TZID=America/New_York:20241025T170000
DTSTAMP:20260422T104137
CREATED:20240520T182931Z
LAST-MODIFIED:20240520T183235Z
UID:7331-1729756800-1729875600@addiction.rutgers.edu
SUMMARY:NYU Langone’s Center for Opioid Epidemiology & Policy: Polysubstance Use Symposium
DESCRIPTION:The Center for Opioid Epidemiology and Policy is pleased to host the second Polysubstance Use Symposium from October 24-25\, 2024. This event will accelerate knowledge of polysubstance use (i.e.\, the use of two or more substances) by bringing together an interdisciplinary group of stakeholders\, researchers\, community organizations\, and community members with an emphasis on opportunities for early career\, underrepresented researchers\, and persons with lived and living experience. \nThe symposium will be hosted in-person at NYU Langone Health at 550 First Avenue\, New York\, NY 10016. \nInformation regarding abstract submissions and scholarships will be available in the coming weeks. Further information and subscription to the mailing list is provided here:https://med.nyu.edu/departments-institutes/population-health/divisions-sections-centers/epidemiology/center-opioid-epidemiology-policy/events
URL:https://addiction.rutgers.edu/event/center-for-opioid-epidemiology-policy-polysubstance-use-symposium/
LOCATION:NYU Langone Health\, 550 First Avenue\, New York\, NY\, 10016
END:VEVENT
END:VCALENDAR