BEGIN:VCALENDAR
VERSION:2.0
PRODID:-//Rutgers Addiction Research Center (RARC) - ECPv6.7.0//NONSGML v1.0//EN
CALSCALE:GREGORIAN
METHOD:PUBLISH
X-ORIGINAL-URL:https://addiction.rutgers.edu
X-WR-CALDESC:Events for Rutgers Addiction Research Center (RARC)
REFRESH-INTERVAL;VALUE=DURATION:PT1H
X-Robots-Tag:noindex
X-PUBLISHED-TTL:PT1H
BEGIN:VTIMEZONE
TZID:America/New_York
BEGIN:DAYLIGHT
TZOFFSETFROM:-0500
TZOFFSETTO:-0400
TZNAME:EDT
DTSTART:20240310T070000
END:DAYLIGHT
BEGIN:STANDARD
TZOFFSETFROM:-0400
TZOFFSETTO:-0500
TZNAME:EST
DTSTART:20241103T060000
END:STANDARD
END:VTIMEZONE
BEGIN:VEVENT
DTSTART;TZID=America/New_York:20241017T123000
DTEND;TZID=America/New_York:20241017T133000
DTSTAMP:20260424T011140
CREATED:20240918T153345Z
LAST-MODIFIED:20241011T160150Z
UID:8224-1729168200-1729171800@addiction.rutgers.edu
SUMMARY:CAS Cooper Colloquium Endowed Lecture with Dr. Shalini Arunogiri
DESCRIPTION:Join us for the Cooper Colloquium Endowed Lecture on October 17th\, hosted by the Center of Alcohol and Substance Use Studies and the Rutgers Addiction Research Center. Dr. Shalini Arunogiri\, Clinical Director at Turning Point and Associate Professor at Monash University\, will present on “Integrated treatment for trauma and substance use in Australia: implementation opportunities and the role of psychedelic-assisted therapies.” \nDate: October 17\, 2024\nTime: 12:30-1:30 PM ET\nIn-person location: Smithers Hall\, Room 200\, 607 Allison Road\, Piscataway\, NJ 08854\nVirtual location: Zoom participants will receive the link to attend virtually via email)\nPlease register to attend this event\, click here.\n  \n \nCASRARC – Oct 17 – Arunogiri
URL:https://addiction.rutgers.edu/event/cas-cooper-colloquium-endowed-lecture-with-dr-shalini-arunogiri/
LOCATION:Life Science Building – Auditorium Atrium
ORGANIZER;CN="Rutgers Center of Alcohol & Substance Use Studies":MAILTO:cas_ed@rutgers.edu
END:VEVENT
END:VCALENDAR