BEGIN:VCALENDAR
VERSION:2.0
PRODID:-//Rutgers Addiction Research Center (RARC) - ECPv6.7.0//NONSGML v1.0//EN
CALSCALE:GREGORIAN
METHOD:PUBLISH
X-ORIGINAL-URL:https://addiction.rutgers.edu
X-WR-CALDESC:Events for Rutgers Addiction Research Center (RARC)
REFRESH-INTERVAL;VALUE=DURATION:PT1H
X-Robots-Tag:noindex
X-PUBLISHED-TTL:PT1H
BEGIN:VTIMEZONE
TZID:America/New_York
BEGIN:DAYLIGHT
TZOFFSETFROM:-0500
TZOFFSETTO:-0400
TZNAME:EDT
DTSTART:20240310T070000
END:DAYLIGHT
BEGIN:STANDARD
TZOFFSETFROM:-0400
TZOFFSETTO:-0500
TZNAME:EST
DTSTART:20241103T060000
END:STANDARD
END:VTIMEZONE
BEGIN:VEVENT
DTSTART;TZID=America/New_York:20241014T093000
DTEND;TZID=America/New_York:20241014T123000
DTSTAMP:20260423T234042
CREATED:20240926T143213Z
LAST-MODIFIED:20240926T143213Z
UID:8295-1728898200-1728909000@addiction.rutgers.edu
SUMMARY:SSW Webinar: Disordered Eating Across the Lifespan
DESCRIPTION:This webinar is designed to highlight the field of eating disorder diagnoses and treatment. Participants will learn a historical perspectives on eating disorders such as anorexia and bulimia\, as well as discuss newer disorders such as ARFID and binge eating disorder. In addition\, participants will learn about helping clients with disordered eating using a developmental framework and be able to discuss specific case studies. [Required for Eating Disorders Clinical Certificate Program] \nAt the conclusion of this webinar\, participants will be able to: \n\nIdentify the current diagnoses used for disordered eating behaviors.\nCompare historical perspectives to current trends in eating disorders.\nIdentify at risk groups for eating disorders based on a developmental model.\n\n\n\n\nInstructor: \nSara Martino\, PhD\, NCC\, LPC\n\n\nDate: \nMonday\, October 14\, 2024\n\n\nTime: \n9:30 am – 12:30 pm ET\n\n\nLocation: \nLive Interactive Online Webinar\n\n\n\nFor more information\, click here.
URL:https://addiction.rutgers.edu/event/ssw-webinar-disordered-eating-across-the-lifespan/
LOCATION:Virtual
END:VEVENT
END:VCALENDAR