BEGIN:VCALENDAR
VERSION:2.0
PRODID:-//Rutgers Addiction Research Center (RARC) - ECPv6.7.0//NONSGML v1.0//EN
CALSCALE:GREGORIAN
METHOD:PUBLISH
X-ORIGINAL-URL:https://addiction.rutgers.edu
X-WR-CALDESC:Events for Rutgers Addiction Research Center (RARC)
REFRESH-INTERVAL;VALUE=DURATION:PT1H
X-Robots-Tag:noindex
X-PUBLISHED-TTL:PT1H
BEGIN:VTIMEZONE
TZID:America/New_York
BEGIN:DAYLIGHT
TZOFFSETFROM:-0500
TZOFFSETTO:-0400
TZNAME:EDT
DTSTART:20240310T070000
END:DAYLIGHT
BEGIN:STANDARD
TZOFFSETFROM:-0400
TZOFFSETTO:-0500
TZNAME:EST
DTSTART:20241103T060000
END:STANDARD
END:VTIMEZONE
BEGIN:VEVENT
DTSTART;TZID=America/New_York:20240716T120000
DTEND;TZID=America/New_York:20240716T130000
DTSTAMP:20260421T215402
CREATED:20240711T163848Z
LAST-MODIFIED:20240711T163848Z
UID:7625-1721131200-1721134800@addiction.rutgers.edu
SUMMARY:JCOIN Speaker Series Webinar: Expanding Access to Methadone Treatment for Opioid Use Disorder in Carceral Settings
DESCRIPTION:In April 2024\, the Substance Abuse & Mental Health Services Administration (SAMHSA) issued a final rule on regulations regarding opioid treatment program (OTP) accreditation\, certification\, and standards for the treatment of opioid use disorder (OUD). This rule change affects the use of methadone\, including clarification on use of methadone in carceral settings. Under the updated final rules of 42 CFR Part 8\, jails and prisons may register as a hospital or clinic. Jails/prisons may stock and dispense methadone to treat OUD and manage acute opioid withdrawal syndrome.  \n\n\nThis webinar will provide an overview of the updated final rules of 42 CFR Part 8 and how they affect methadone dispensation in carceral settings. Speakers will discuss the: \n\n\n\n\nProcess for how carceral settings can use the updated SAMHSA rule to increase methadone access; \n\n\nDrug Enforcement Agency’s (DEA) regulations around dispensing methadone and buprenorphine; \n\n\nRole of state regulations for accessing MOUD; and \n\n\nConsiderations for carceral settings when establishing a methadone dispensing program. \n\n\nFor more information\, and registration\, click here.
URL:https://addiction.rutgers.edu/event/jcoin-speaker-series-webinar-expanding-access-to-methadone-treatment-for-opioid-use-disorder-in-carceral-settings/
LOCATION:Virtual
END:VEVENT
END:VCALENDAR