BEGIN:VCALENDAR
VERSION:2.0
PRODID:-//Rutgers Addiction Research Center (RARC) - ECPv6.7.0//NONSGML v1.0//EN
CALSCALE:GREGORIAN
METHOD:PUBLISH
X-ORIGINAL-URL:https://addiction.rutgers.edu
X-WR-CALDESC:Events for Rutgers Addiction Research Center (RARC)
REFRESH-INTERVAL;VALUE=DURATION:PT1H
X-Robots-Tag:noindex
X-PUBLISHED-TTL:PT1H
BEGIN:VTIMEZONE
TZID:America/New_York
BEGIN:DAYLIGHT
TZOFFSETFROM:-0500
TZOFFSETTO:-0400
TZNAME:EDT
DTSTART:20240310T070000
END:DAYLIGHT
BEGIN:STANDARD
TZOFFSETFROM:-0400
TZOFFSETTO:-0500
TZNAME:EST
DTSTART:20241103T060000
END:STANDARD
END:VTIMEZONE
BEGIN:VEVENT
DTSTART;TZID=America/New_York:20240227T073000
DTEND;TZID=America/New_York:20240227T203000
DTSTAMP:20260424T021439
CREATED:20240223T202809Z
LAST-MODIFIED:20240223T202809Z
UID:6472-1709019000-1709065800@addiction.rutgers.edu
SUMMARY:School of Health Professions Virtual Panel: Insight into Awareness of Eating Disorders: Unique Perspectives from Professionals and Clients
DESCRIPTION:Department of Clinical & Preventive Nutrition Sciences & Rutgers Student Dietetic Association Presents:\nInsight into Awareness of Eating Disorders: Unique Perspectives from Professionals and Clients \nJoin us for a virtual panel discussion featuring healthcare professional and lived experience advocates.  \nJoin the zoom meeting: https://go.rutgers.edu/sik2zjjl \n \n  \nEDAW 2024 Panel
URL:https://addiction.rutgers.edu/event/school-of-health-professions-virtual-panel-insight-into-awareness-of-eating-disorders-unique-perspectives-from-professionals-and-clients/
LOCATION:Virtual
END:VEVENT
END:VCALENDAR