BEGIN:VCALENDAR
VERSION:2.0
PRODID:-//Rutgers Addiction Research Center (RARC) - ECPv6.7.0//NONSGML v1.0//EN
CALSCALE:GREGORIAN
METHOD:PUBLISH
X-WR-CALNAME:Rutgers Addiction Research Center (RARC)
X-ORIGINAL-URL:https://addiction.rutgers.edu
X-WR-CALDESC:Events for Rutgers Addiction Research Center (RARC)
REFRESH-INTERVAL;VALUE=DURATION:PT1H
X-Robots-Tag:noindex
X-PUBLISHED-TTL:PT1H
BEGIN:VTIMEZONE
TZID:America/New_York
BEGIN:DAYLIGHT
TZOFFSETFROM:-0500
TZOFFSETTO:-0400
TZNAME:EDT
DTSTART:20240310T070000
END:DAYLIGHT
BEGIN:STANDARD
TZOFFSETFROM:-0400
TZOFFSETTO:-0500
TZNAME:EST
DTSTART:20241103T060000
END:STANDARD
END:VTIMEZONE
BEGIN:VEVENT
DTSTART;TZID=America/New_York:20240206T110000
DTEND;TZID=America/New_York:20240206T120000
DTSTAMP:20260423T213242
CREATED:20240202T153502Z
LAST-MODIFIED:20240202T154143Z
UID:6313-1707217200-1707220800@addiction.rutgers.edu
SUMMARY:Rutgers Psychiatry Grand Rounds with Dr. Nina Cooperman - "Mindfulness Oriented Recovery Enhancement (MORE) for Prevention and Treatment of Opioid Use Disorder and Chronic Pain"
DESCRIPTION:Meeting URL:\nhttps://rutgers.zoom.us/j/93346312802?pwd=aFptWC9YSHFMUFlQVnJjUWR4Y2FaZz09\n\n\nMeeting ID:\n933 4631 2802\n\n\nPassword:\n393077
URL:https://addiction.rutgers.edu/event/rutgers-psychiatry-grand-rounds-with-dr-nina-cooperman-mindfulness-oriented-recovery-enhancement-more-for-prevention-and-treatment-of-opioid-use-disorder-and-chronic-pain/
LOCATION:Virtual
END:VEVENT
END:VCALENDAR