BEGIN:VCALENDAR
VERSION:2.0
PRODID:-//Rutgers Addiction Research Center (RARC) - ECPv6.7.0//NONSGML v1.0//EN
CALSCALE:GREGORIAN
METHOD:PUBLISH
X-ORIGINAL-URL:https://addiction.rutgers.edu
X-WR-CALDESC:Events for Rutgers Addiction Research Center (RARC)
REFRESH-INTERVAL;VALUE=DURATION:PT1H
X-Robots-Tag:noindex
X-PUBLISHED-TTL:PT1H
BEGIN:VTIMEZONE
TZID:America/New_York
BEGIN:DAYLIGHT
TZOFFSETFROM:-0500
TZOFFSETTO:-0400
TZNAME:EDT
DTSTART:20230312T070000
END:DAYLIGHT
BEGIN:STANDARD
TZOFFSETFROM:-0400
TZOFFSETTO:-0500
TZNAME:EST
DTSTART:20231105T060000
END:STANDARD
END:VTIMEZONE
BEGIN:VEVENT
DTSTART;TZID=America/New_York:20231120T093000
DTEND;TZID=America/New_York:20231120T123000
DTSTAMP:20260424T032112
CREATED:20231102T135209Z
LAST-MODIFIED:20231102T135209Z
UID:5654-1700472600-1700483400@addiction.rutgers.edu
SUMMARY:Disordered Eating Across the Lifespan
DESCRIPTION:This webinar is designed to highlight the field of eating disorder diagnoses and treatment. Participants will learn a historical perspectives on eating disorders such as anorexia and bulimia\, as well as discuss newer disorders such as ARFID and binge eating disorder. In addition\, participants will learn about helping clients with disordered eating using a developmental framework and be able to discuss specific case studies. \n\n\n\nInstructor: \nSara Martino\, PhD\, NCC\, LPC\n\n\nDate: \nMonday\, November 20\, 2023\n\n\nTime: \n9:30 am – 12:30 pm ET\n\n\nLocation: \nLive Interactive Online Webinar\n\n\n\nFor more information\, click here.
URL:https://addiction.rutgers.edu/event/disordered-eating-across-the-lifespan/
LOCATION:Virtual
END:VEVENT
END:VCALENDAR