BEGIN:VCALENDAR
VERSION:2.0
PRODID:-//Rutgers Addiction Research Center (RARC) - ECPv6.7.0//NONSGML v1.0//EN
CALSCALE:GREGORIAN
METHOD:PUBLISH
X-ORIGINAL-URL:https://addiction.rutgers.edu
X-WR-CALDESC:Events for Rutgers Addiction Research Center (RARC)
REFRESH-INTERVAL;VALUE=DURATION:PT1H
X-Robots-Tag:noindex
X-PUBLISHED-TTL:PT1H
BEGIN:VTIMEZONE
TZID:America/New_York
BEGIN:DAYLIGHT
TZOFFSETFROM:-0500
TZOFFSETTO:-0400
TZNAME:EDT
DTSTART:20230312T070000
END:DAYLIGHT
BEGIN:STANDARD
TZOFFSETFROM:-0400
TZOFFSETTO:-0500
TZNAME:EST
DTSTART:20231105T060000
END:STANDARD
END:VTIMEZONE
BEGIN:VEVENT
DTSTART;TZID=America/New_York:20231009T120000
DTEND;TZID=America/New_York:20231009T130000
DTSTAMP:20260425T173922
CREATED:20230922T084944Z
LAST-MODIFIED:20230922T095729Z
UID:5169-1696852800-1696856400@addiction.rutgers.edu
SUMMARY:RWJMS Medical Student Research Networking Event
DESCRIPTION:This event is specifically for medical students in their first and second year (M1 and M2) who are interested in research to have the opportunity to meet and discuss research opportunities with faculty and members of their research teams\, including research staff and other students. \nThis is an excellent opportunity for you to recruit medical students for your research! \nPlease CLICK HERE to Register \nMonday\, October 9\, 2023\, from 12:00 PM – 1:00 PM \nLocation: \nRWJMS – Great Hall\n675 Hoes Lane West\,\nPiscataway\, NJ  08854 \nOrganized by: \nRWJMS Students Interested in Research (SIR) and the RWJMS Office of Research \nIf you or someone from your research team is interested in participating at the event\, please CLICK HERE toRSVP by Monday\, October 2\, 2023
URL:https://addiction.rutgers.edu/event/rwjms-medical-student-research-networking-event/
END:VEVENT
END:VCALENDAR