BEGIN:VCALENDAR
VERSION:2.0
PRODID:-//Rutgers Addiction Research Center (RARC) - ECPv6.7.0//NONSGML v1.0//EN
CALSCALE:GREGORIAN
METHOD:PUBLISH
X-ORIGINAL-URL:https://addiction.rutgers.edu
X-WR-CALDESC:Events for Rutgers Addiction Research Center (RARC)
REFRESH-INTERVAL;VALUE=DURATION:PT1H
X-Robots-Tag:noindex
X-PUBLISHED-TTL:PT1H
BEGIN:VTIMEZONE
TZID:America/New_York
BEGIN:DAYLIGHT
TZOFFSETFROM:-0500
TZOFFSETTO:-0400
TZNAME:EDT
DTSTART:20230312T070000
END:DAYLIGHT
BEGIN:STANDARD
TZOFFSETFROM:-0400
TZOFFSETTO:-0500
TZNAME:EST
DTSTART:20231105T060000
END:STANDARD
END:VTIMEZONE
BEGIN:VEVENT
DTSTART;TZID=America/New_York:20230905T110000
DTEND;TZID=America/New_York:20230905T120000
DTSTAMP:20260425T173922
CREATED:20230901T143337Z
LAST-MODIFIED:20230901T143337Z
UID:4878-1693911600-1693915200@addiction.rutgers.edu
SUMMARY:RWJMS Psychiatry Grand Rounds - Ready or Not: Here Come the Nitazenes; Plus a Xylazine Update
DESCRIPTION:PSYCHIATRY GRAND ROUNDS\nProvided by Rutgers Robert Wood Johnson Medical School\nDepartment of Psychiatry\n\nPlease join us for our first Grand Rounds Lecture on Tuesday September 5\, 2023 at 11am via Zoom\n\n“Ready or Not: Here Come the Nitazenes; Plus a Xylazine Update”\n\ngiven by Edwin A. Salsitz\, M.D.\, DFASAM\nAssociate Clinical Professor\, ISMMS\, Mount Sinai Beth Israel\n\nJoin Zoom Meeting:\nhttps://rutgers.zoom.us/j/96987457634?pwd=ZE8zeVhDK2UxUEQxUEUzbHluWWhKZz09\n\nMeeting ID: 969 8745 7634\n\nPassword: 111383\n\nJoin By Phone\n        +1 646 558 8656 US
URL:https://addiction.rutgers.edu/event/rwjms-psychiatry-grand-rounds-ready-or-not-here-come-the-nitazenes-plus-a-xylazine-update/
LOCATION:Virtual
END:VEVENT
END:VCALENDAR