BEGIN:VCALENDAR
VERSION:2.0
PRODID:-//Rutgers Addiction Research Center (RARC) - ECPv6.7.0//NONSGML v1.0//EN
CALSCALE:GREGORIAN
METHOD:PUBLISH
X-ORIGINAL-URL:https://addiction.rutgers.edu
X-WR-CALDESC:Events for Rutgers Addiction Research Center (RARC)
REFRESH-INTERVAL;VALUE=DURATION:PT1H
X-Robots-Tag:noindex
X-PUBLISHED-TTL:PT1H
BEGIN:VTIMEZONE
TZID:America/New_York
BEGIN:DAYLIGHT
TZOFFSETFROM:-0500
TZOFFSETTO:-0400
TZNAME:EDT
DTSTART:20230312T070000
END:DAYLIGHT
BEGIN:STANDARD
TZOFFSETFROM:-0400
TZOFFSETTO:-0500
TZNAME:EST
DTSTART:20231105T060000
END:STANDARD
END:VTIMEZONE
BEGIN:VEVENT
DTSTART;TZID=America/New_York:20230718T093000
DTEND;TZID=America/New_York:20230718T123000
DTSTAMP:20260422T024327
CREATED:20230619T171533Z
LAST-MODIFIED:20230619T171533Z
UID:4178-1689672600-1689683400@addiction.rutgers.edu
SUMMARY:SSW Webinar: Not Just Benzodiazepines: Alternative Treatments of Anxiety and Depression
DESCRIPTION:The primary goal of this webinar is to explore non-pharmaceutical treatment of depression and anxiety. The number of people looking for non-pharmaceutical interventions is increasing in both the psychiatric and addiction fields. One need look no further than the desire to decrease benzodiazepine (BZD) use. Treatments to be discussed include herbal and amino acid substances as well as vagal nerve stimulation. [This webinar will complete your prescription opioid social work license requirement.] \nInstructor: Craig Strickland\, PhD \nFor more information and registration: click here
URL:https://addiction.rutgers.edu/event/ssw-webinar-not-just-benzodiazepines-alternative-treatments-of-anxiety-and-depression/
LOCATION:Virtual
END:VEVENT
BEGIN:VEVENT
DTSTART;TZID=America/New_York:20230718T100000
DTEND;TZID=America/New_York:20230718T110000
DTSTAMP:20260422T024327
CREATED:20230707T141406Z
LAST-MODIFIED:20230707T141406Z
UID:4241-1689674400-1689678000@addiction.rutgers.edu
SUMMARY:BHI/CAHBIR/RWJMS Faculty Candidate Seminar: Dr. Sheila Shanmugan
DESCRIPTION:Sheila Shanmugan\, MD\, PhD \nUNIVERSITY OF PENNSYLVANIA – SCHOOL OF MEDICINE \n“Towards Personalized Reproductive Psychiatry” \nReproductive psychiatry is currently a field of trial and error. We don’t know which patient’s disorders will improve\, worsen\, or persist; we also don’t know which treatment will work best for a patient until she tries it. Optimizing early intervention is particularly critical in reproductive psychiatry\, not only because puberty\, pregnancy\, and menopause are times of heightened vulnerability to psychopathology\, but also because the consequences of delaying intervention during these reproductive time points are often long-lasting. In this talk\, I will describe how I envision combining neuroimaging and machine learning to answer these clinical questions in women’s mental health. First\, I will present my recent work on sex differences in personalized functional networks. Next\, I will present my graduate work on indicators of and treatments for perimenopausal executive dysfunction. Finally\, I will describe the path I envision towards developing sex-specific machine learning models that aim to personalize early interventions in reproductive psychiatry. \nJoin Zoom Meeting: https://rutgers.zoom.us/j/97288891767?pwd=cmhlSjhkOFhObHhjQTNaVExsR0VSZz09 \nMeeting ID: 972 8889 1767 \nPassword: 123456 \nOne tap mobile: +16465588656
URL:https://addiction.rutgers.edu/event/bhi-cahbir-rwjms-faculty-candidate-seminar-dr-sheila-shanmugan/
LOCATION:Virtual
END:VEVENT
END:VCALENDAR