BEGIN:VCALENDAR
VERSION:2.0
PRODID:-//Rutgers Addiction Research Center (RARC) - ECPv6.7.0//NONSGML v1.0//EN
CALSCALE:GREGORIAN
METHOD:PUBLISH
X-ORIGINAL-URL:https://addiction.rutgers.edu
X-WR-CALDESC:Events for Rutgers Addiction Research Center (RARC)
REFRESH-INTERVAL;VALUE=DURATION:PT1H
X-Robots-Tag:noindex
X-PUBLISHED-TTL:PT1H
BEGIN:VTIMEZONE
TZID:America/New_York
BEGIN:DAYLIGHT
TZOFFSETFROM:-0500
TZOFFSETTO:-0400
TZNAME:EDT
DTSTART:20230312T070000
END:DAYLIGHT
BEGIN:STANDARD
TZOFFSETFROM:-0400
TZOFFSETTO:-0500
TZNAME:EST
DTSTART:20231105T060000
END:STANDARD
END:VTIMEZONE
BEGIN:VEVENT
DTSTART;TZID=America/New_York:20230614T093000
DTEND;TZID=America/New_York:20230614T170000
DTSTAMP:20260424T024008
CREATED:20221209T153016Z
LAST-MODIFIED:20221209T200049Z
UID:3250-1686735000-1686762000@addiction.rutgers.edu
SUMMARY:CAS Summer Symposium - Looking Ahead: Science\, Practice\, and Advocacy to Meet the Emerging Addiction Challenges
DESCRIPTION:The Center of Alcohol and Substance Use Studies at Rutgers University (CAS) is excited to announce plans for our 2023 Summer Symposium\, addressing inequities and social determinants of addiction through creative and collaborative efforts in science practice\, community engagement and advocacy. CAS has offered summer educational events for 80 years. As we began our Summer School of Addiction Studies in the 1940s\, we were early innovators. Now\, we are inspired to continue and expand our focus to address emerging challenges while exploring how best to translate new findings into practical and effective initiatives with a focus on promoting of wellness and recovery for all. \nDate: Wednesday\, June 14\, 2023\nTime: 9:30 am – 5:00 pm\nLocation: Rutgers Busch Campus Center\n604 Bartholomew Rd. Piscataway\, NJ 08854 \nFor more information contact swarbrma@rutgers.edu
URL:https://addiction.rutgers.edu/event/cas-summer-symposium-looking-ahead-science-practice-and-advocacy-to-meet-the-emerging-addiction-challenges/
LOCATION:Busch Student Center\, 604 Bartholomew Rd\, Piscataway\, NJ\, 08854
ORGANIZER;CN="Rutgers Center of Alcohol & Substance Use Studies":MAILTO:cas_ed@rutgers.edu
END:VEVENT
END:VCALENDAR