BEGIN:VCALENDAR
VERSION:2.0
PRODID:-//Rutgers Addiction Research Center (RARC) - ECPv6.7.0//NONSGML v1.0//EN
CALSCALE:GREGORIAN
METHOD:PUBLISH
X-ORIGINAL-URL:https://addiction.rutgers.edu
X-WR-CALDESC:Events for Rutgers Addiction Research Center (RARC)
REFRESH-INTERVAL;VALUE=DURATION:PT1H
X-Robots-Tag:noindex
X-PUBLISHED-TTL:PT1H
BEGIN:VTIMEZONE
TZID:America/New_York
BEGIN:DAYLIGHT
TZOFFSETFROM:-0500
TZOFFSETTO:-0400
TZNAME:EDT
DTSTART:20230312T070000
END:DAYLIGHT
BEGIN:STANDARD
TZOFFSETFROM:-0400
TZOFFSETTO:-0500
TZNAME:EST
DTSTART:20231105T060000
END:STANDARD
END:VTIMEZONE
BEGIN:VEVENT
DTSTART;TZID=America/New_York:20230525T110000
DTEND;TZID=America/New_York:20230525T110000
DTSTAMP:20260422T115836
CREATED:20230404T175538Z
LAST-MODIFIED:20230404T175538Z
UID:3879-1685012400-1685012400@addiction.rutgers.edu
SUMMARY:Drug-free NJ Learning Series: The Rise of Poly-Substance Overdose Deaths
DESCRIPTION:The number of drug overdose deaths involving multiple substances have increased significantly in recent years. State and national experts will discuss current trends and what to expect in the future. \nRegistration: Click here
URL:https://addiction.rutgers.edu/event/drug-free-nj-learning-series-the-rise-of-poly-substance-overdose-deaths/
LOCATION:Virtual
END:VEVENT
BEGIN:VEVENT
DTSTART;TZID=America/New_York:20230525T110000
DTEND;TZID=America/New_York:20230525T120000
DTSTAMP:20260422T115836
CREATED:20230509T203117Z
LAST-MODIFIED:20230509T203117Z
UID:4075-1685012400-1685016000@addiction.rutgers.edu
SUMMARY:Drug-Free NJ: Rise of Poly-Substance Overdose Deaths Webinar
DESCRIPTION:The number of drug overdose deaths involving multiple substances have increased significantly in recent years. State and national experts will discuss current trends and what to expect in the future. \nFor more information and registration: Click here
URL:https://addiction.rutgers.edu/event/drug-free-nj-rise-of-poly-substance-overdose-deaths-webinar/
LOCATION:Virtual
END:VEVENT
END:VCALENDAR