BEGIN:VCALENDAR
VERSION:2.0
PRODID:-//Rutgers Addiction Research Center (RARC) - ECPv6.7.0//NONSGML v1.0//EN
CALSCALE:GREGORIAN
METHOD:PUBLISH
X-ORIGINAL-URL:https://addiction.rutgers.edu
X-WR-CALDESC:Events for Rutgers Addiction Research Center (RARC)
REFRESH-INTERVAL;VALUE=DURATION:PT1H
X-Robots-Tag:noindex
X-PUBLISHED-TTL:PT1H
BEGIN:VTIMEZONE
TZID:America/New_York
BEGIN:DAYLIGHT
TZOFFSETFROM:-0500
TZOFFSETTO:-0400
TZNAME:EDT
DTSTART:20230312T070000
END:DAYLIGHT
BEGIN:STANDARD
TZOFFSETFROM:-0400
TZOFFSETTO:-0500
TZNAME:EST
DTSTART:20231105T060000
END:STANDARD
END:VTIMEZONE
BEGIN:VEVENT
DTSTART;TZID=America/New_York:20230330T110000
DTEND;TZID=America/New_York:20230330T120000
DTSTAMP:20260422T113331
CREATED:20230327T172908Z
LAST-MODIFIED:20230327T173521Z
UID:3843-1680174000-1680177600@addiction.rutgers.edu
SUMMARY:The Partnership for a Drug-Free NJ Learning Series - Alternatives to Opioids
DESCRIPTION:This webinar will focus on the many alternatives that can be used instead of opioids for treating pain. Presenters will also touch on recent updates to CDC guidelines for prescribing opioids. \nLearning Objectives\nAt the conclusion of this activity\, learners should be better able to:\n1. Describe the prescription drug and opioid abuse epidemic in your community\n2. Identify pathways for development of addiction in patients exposed to opioids\n3. Recommend pharmacologic and other alternatives to opioids for treating pain\n4. Work with your care team to address the epidemic of opioid addiction and the rising levels of misuse and abuse and deaths including diversion\, harm reduction\, and signs and symptoms \nFREE Webinar registration: CLICK HERE
URL:https://addiction.rutgers.edu/event/the-partnership-for-a-drug-free-nj-learning-series-alternatives-to-opioids/
LOCATION:Virtual
END:VEVENT
END:VCALENDAR