BEGIN:VCALENDAR
VERSION:2.0
PRODID:-//Rutgers Addiction Research Center (RARC) - ECPv6.7.0//NONSGML v1.0//EN
CALSCALE:GREGORIAN
METHOD:PUBLISH
X-ORIGINAL-URL:https://addiction.rutgers.edu
X-WR-CALDESC:Events for Rutgers Addiction Research Center (RARC)
REFRESH-INTERVAL;VALUE=DURATION:PT1H
X-Robots-Tag:noindex
X-PUBLISHED-TTL:PT1H
BEGIN:VTIMEZONE
TZID:America/New_York
BEGIN:DAYLIGHT
TZOFFSETFROM:-0500
TZOFFSETTO:-0400
TZNAME:EDT
DTSTART:20230312T070000
END:DAYLIGHT
BEGIN:STANDARD
TZOFFSETFROM:-0400
TZOFFSETTO:-0500
TZNAME:EST
DTSTART:20231105T060000
END:STANDARD
END:VTIMEZONE
BEGIN:VEVENT
DTSTART;TZID=America/New_York:20230324T093000
DTEND;TZID=America/New_York:20230324T093000
DTSTAMP:20260424T071904
CREATED:20230202T203949Z
LAST-MODIFIED:20230202T205014Z
UID:3639-1679650200-1679650200@addiction.rutgers.edu
SUMMARY:GSAPP Webinar: Opioids Then and Now
DESCRIPTION:Date: Friday\, March 24\, 2023\nTime: 9:30am-12:45pm ET\nFor more information and registration: Click here\n\nInstructor: Ana Guerra\, LCSW\, LPC\, LCADC\, CCS\nInstructional Level: Introductory\n\nIn 2020\, nearly 75% of overdose deaths involved an opioid (CDC\, 2022). As the rates of Opioid Use Disorders (OUD) have increased\, so has the need for a collaborative response to the crisis.  This course identifies factors that contributed to the escalation of opioid use and highlights implications for treatment.  Participants will review DSM-5 TR diagnostic criteria and learn about the physiological effects of opioids including Neonatal Abstinence Syndrome.  Participants will examine the benefits and misconceptions of pharmacotherapy (Medication Assisted Treatment) as well as opioid diversion activities and efforts to combat them.  Discussion and activities strive to empower participants to serve as agents of change.
URL:https://addiction.rutgers.edu/event/gsapp-webinar-opioids-then-and-now/
LOCATION:Virtual
ORGANIZER;CN="Rutgers Graduate School of Applied and Professional Psychology":MAILTO:ce@gsapp.rutgers.edu
END:VEVENT
END:VCALENDAR