BEGIN:VCALENDAR
VERSION:2.0
PRODID:-//Rutgers Addiction Research Center (RARC) - ECPv6.7.0//NONSGML v1.0//EN
CALSCALE:GREGORIAN
METHOD:PUBLISH
X-WR-CALNAME:Rutgers Addiction Research Center (RARC)
X-ORIGINAL-URL:https://addiction.rutgers.edu
X-WR-CALDESC:Events for Rutgers Addiction Research Center (RARC)
REFRESH-INTERVAL;VALUE=DURATION:PT1H
X-Robots-Tag:noindex
X-PUBLISHED-TTL:PT1H
BEGIN:VTIMEZONE
TZID:America/New_York
BEGIN:DAYLIGHT
TZOFFSETFROM:-0500
TZOFFSETTO:-0400
TZNAME:EDT
DTSTART:20230312T070000
END:DAYLIGHT
BEGIN:STANDARD
TZOFFSETFROM:-0400
TZOFFSETTO:-0500
TZNAME:EST
DTSTART:20231105T060000
END:STANDARD
END:VTIMEZONE
BEGIN:VEVENT
DTSTART;TZID=America/New_York:20230209T093000
DTEND;TZID=America/New_York:20230209T123000
DTSTAMP:20260425T121600
CREATED:20230202T192348Z
LAST-MODIFIED:20230202T192348Z
UID:3616-1675935000-1675945800@addiction.rutgers.edu
SUMMARY:SSW Webinar: Ethical and Legal Issues in Substance Abuse Counseling
DESCRIPTION:This interactive webinar focuses on the major elements of legal issues surrounding counselors in working with patients who have substance use disorders. In this webinar\, participants will learn about the different areas of legal concern for today’s counselors working with clients who have both mental health and substance use issues. Legal areas include scope of clinical practice regarding supervision (including 2019 changes and proposed rule changes)\, ADC telehealth and telemedicine regulations (proposed in 2021)\, and NJ Uniform Enforcement Act changes (including 2021 changes). Other recent changes to include the required 3 hours of Legal Standards training include regulation/statute changes in ADC continuing education (3 hours of Legal Standards) and statutory requirements of 1 hour of opioid training (for those dually licensed professionals). \nInstructor: Glenn Duncan\, LPC\, LCADC\, CCS\, ACS\nDate: Thursday\, February 9\, 2023Time: 9:30 am – 12:30 pm ETLocation: Zoom (Interactive Webinar)\nOnline Live Webinar\, Online\, NJ \n  \nFor more information and registration: Click here
URL:https://addiction.rutgers.edu/event/ssw-webinar-ethical-and-legal-issues-in-substance-abuse-counseling/
LOCATION:Virtual
END:VEVENT
END:VCALENDAR