BEGIN:VCALENDAR
VERSION:2.0
PRODID:-//Rutgers Addiction Research Center (RARC) - ECPv6.7.0//NONSGML v1.0//EN
CALSCALE:GREGORIAN
METHOD:PUBLISH
X-ORIGINAL-URL:https://addiction.rutgers.edu
X-WR-CALDESC:Events for Rutgers Addiction Research Center (RARC)
REFRESH-INTERVAL;VALUE=DURATION:PT1H
X-Robots-Tag:noindex
X-PUBLISHED-TTL:PT1H
BEGIN:VTIMEZONE
TZID:America/New_York
BEGIN:DAYLIGHT
TZOFFSETFROM:-0500
TZOFFSETTO:-0400
TZNAME:EDT
DTSTART:20220313T070000
END:DAYLIGHT
BEGIN:STANDARD
TZOFFSETFROM:-0400
TZOFFSETTO:-0500
TZNAME:EST
DTSTART:20221106T060000
END:STANDARD
END:VTIMEZONE
BEGIN:VEVENT
DTSTART;VALUE=DATE:20221211
DTEND;VALUE=DATE:20221215
DTSTAMP:20260424T183020
CREATED:20220913T202446Z
LAST-MODIFIED:20221012T214257Z
UID:2387-1670716800-1671062399@addiction.rutgers.edu
SUMMARY:Academy Health 15th Annual Conference on the Science of Dissemination and Implementation in Health
DESCRIPTION:  \n  \n  \n  \n  \n  \n  \n  \nFor more information: Click here \nThrough a combination of plenaries\, workshops\, breakout\, and poster sessions\, the 15th Annual Conference on the Science of Dissemination and Implementation in Health\, co-hosted by the National Institutes of Health (NIH) and AcademyHealth\, supports the collective understanding of the research agenda\, puts forth new findings\, and identifies research priorities to set the field up for the next decade. \nThis year’s theme\, (Re)Building Better Systems: Being Proactive\, Nimble\, and Responsive\, will build upon lessons learned about rapidly changing community health and clinical settings to envisioning new models for conducting D&I science that respond to the shifting needs of diverse systems and populations\, and use flexible and rigorous methodologies to anticipate challenges and ongoing change. To make large-scale gains in health at a population level\, we must consider the integration of scientific discoveries within varied contexts and populations\, in the face of dynamic evidence\, competing demands\, and diverse stakeholder priorities.
URL:https://addiction.rutgers.edu/event/15th-annual-conference-on-the-science-of-dissemination-and-implementation-in-health/
LOCATION:Walter E. Washington Convention Center\, 801 Mt Vernon Pl NW\, Washington\, D.C.\, DC\, 20001\, United States
END:VEVENT
BEGIN:VEVENT
DTSTART;TZID=America/New_York:20221213T110000
DTEND;TZID=America/New_York:20221213T120000
DTSTAMP:20260424T183020
CREATED:20220831T181547Z
LAST-MODIFIED:20221012T214350Z
UID:2253-1670929200-1670932800@addiction.rutgers.edu
SUMMARY:NJMS Webinar: COVID-19 Delirium and Neuropsychiatric Effects
DESCRIPTION:Scott R. Beach\, MD\nMGH Psychiatric Consultation Service\, Associate Professor of Psychiatry\, Harvard Medical School \n\n  \n\n\nTo Participate In Virtual Grand Rounds: \n\n\nJoin Zoom Meeting\nhttps://rutgers.zoom.us/j/94795837547?pwd=cFNLd Wx2OTB0c1o4WEtLcGw1R2ptZz09 \n\n\nMeeting ID: 947 9583 7547\nPassword: 694584 \n\n\nNJMS.Rutgers.edu/Psychiatry
URL:https://addiction.rutgers.edu/event/covid-19-delirium-and-neuropsychiatric-effects/
LOCATION:Virtual
END:VEVENT
END:VCALENDAR