BEGIN:VCALENDAR
VERSION:2.0
PRODID:-//Rutgers Addiction Research Center (RARC) - ECPv6.7.0//NONSGML v1.0//EN
CALSCALE:GREGORIAN
METHOD:PUBLISH
X-ORIGINAL-URL:https://addiction.rutgers.edu
X-WR-CALDESC:Events for Rutgers Addiction Research Center (RARC)
REFRESH-INTERVAL;VALUE=DURATION:PT1H
X-Robots-Tag:noindex
X-PUBLISHED-TTL:PT1H
BEGIN:VTIMEZONE
TZID:America/New_York
BEGIN:DAYLIGHT
TZOFFSETFROM:-0500
TZOFFSETTO:-0400
TZNAME:EDT
DTSTART:20220313T070000
END:DAYLIGHT
BEGIN:STANDARD
TZOFFSETFROM:-0400
TZOFFSETTO:-0500
TZNAME:EST
DTSTART:20221106T060000
END:STANDARD
END:VTIMEZONE
BEGIN:VEVENT
DTSTART;TZID=America/New_York:20221208T110000
DTEND;TZID=America/New_York:20221208T120000
DTSTAMP:20260424T084455
CREATED:20220823T160223Z
LAST-MODIFIED:20221012T214032Z
UID:2002-1670497200-1670500800@addiction.rutgers.edu
SUMMARY:NJCARES Webinar: The Opioid Epidemic: A New Look at the Data Webinar
DESCRIPTION:This webinar will examine data on the opioid epidemic in New Jersey and around the country\, including the trends in prescription opioid\, heroin and synthetic opioid use.\n\n\nFor registration: Click here
URL:https://addiction.rutgers.edu/event/the-opioid-epidemic-a-new-look-at-the-data-webinar/
LOCATION:Virtual
END:VEVENT
BEGIN:VEVENT
DTSTART;TZID=America/New_York:20221208T130000
DTEND;TZID=America/New_York:20221209T163000
DTSTAMP:20260424T084455
CREATED:20221110T174810Z
LAST-MODIFIED:20221110T174810Z
UID:3135-1670504400-1670603400@addiction.rutgers.edu
SUMMARY:Annual NIH Behavioral and Social Sciences Research (BSSR) Festival (virtual)
DESCRIPTION:Join the NIH Office of Behavioral and Social Sciences Research (OBSSR) virtually on Thursday\, December 8 and Friday\, December 9\, 2022\, from 1:00 p.m. to 4:30 p.m. ET each day\, for the annual NIH Behavioral and Social Sciences Research (BSSR) Festival. \nRegister to attend and view the festival agenda and speaker biographies: https://www.scgcorp.com/OBSSRFestival2022/Registration.\nYou will receive a confirmation email after you register. Information about connecting to the Zoom webinar will be sent to your email address closer to the meeting date. \nThe festival\, hosted by OBSSR and in collaboration with the NIH BSSR Coordinating Committee\, will showcase exciting research results\, emerging research areas\, and innovations in health related BSSR. Presenters were selected from nominations made by various NIH Institutes and Centers to highlight impactful BSSR funded across NIH. \nThe full festival agenda can be viewed at https://www.scgcorp.com/OBSSRFestival2022/Agenda
URL:https://addiction.rutgers.edu/event/annual-nih-behavioral-and-social-sciences-research-bssr-festival-virtual/
LOCATION:Virtual
END:VEVENT
END:VCALENDAR