BEGIN:VCALENDAR
VERSION:2.0
PRODID:-//Rutgers Addiction Research Center (RARC) - ECPv6.7.0//NONSGML v1.0//EN
CALSCALE:GREGORIAN
METHOD:PUBLISH
X-ORIGINAL-URL:https://addiction.rutgers.edu
X-WR-CALDESC:Events for Rutgers Addiction Research Center (RARC)
REFRESH-INTERVAL;VALUE=DURATION:PT1H
X-Robots-Tag:noindex
X-PUBLISHED-TTL:PT1H
BEGIN:VTIMEZONE
TZID:America/New_York
BEGIN:DAYLIGHT
TZOFFSETFROM:-0500
TZOFFSETTO:-0400
TZNAME:EDT
DTSTART:20220313T070000
END:DAYLIGHT
BEGIN:STANDARD
TZOFFSETFROM:-0400
TZOFFSETTO:-0500
TZNAME:EST
DTSTART:20221106T060000
END:STANDARD
END:VTIMEZONE
BEGIN:VEVENT
DTSTART;TZID=America/New_York:20221006T110000
DTEND;TZID=America/New_York:20221006T120000
DTSTAMP:20260421T235647
CREATED:20220823T155933Z
LAST-MODIFIED:20220824T164758Z
UID:1999-1665054000-1665057600@addiction.rutgers.edu
SUMMARY:Knock Out Opioid Abuse Day Webinar
DESCRIPTION:Experts will outline the current state of the opioid crisis and prevention strategies that can be used in your community to mark Knock Out Opioid Abuse Day in New Jersey.
URL:https://addiction.rutgers.edu/event/knock-out-opioid-abuse-day-webinar/
LOCATION:Virtual
END:VEVENT
BEGIN:VEVENT
DTSTART;TZID=America/New_York:20221006T123000
DTEND;TZID=America/New_York:20221006T133000
DTSTAMP:20260421T235647
CREATED:20220831T152306Z
LAST-MODIFIED:20220831T175114Z
UID:2199-1665059400-1665063000@addiction.rutgers.edu
SUMMARY:From Submission to Publication (and Beyond): A Look Behind the Curtain of Substance use Research Publishing for Early-Career Researchers
DESCRIPTION:Instructor: Paul Candon\, M.A. \n  \nFor questions or difficulty registering\, please contact:\nJordan Gette\, Jordan.Gette@rutgers.edu or\nBrianna Altman\, bra19@psych.rutgers.edu \n 
URL:https://addiction.rutgers.edu/event/from-submission-to-publication-and-beyond-a-look-behind-the-curtain-of-substance-use-research-publishing-for-early-career-researchers/
LOCATION:Virtual
ORGANIZER;CN="Center for Alcohol and Substance Use Studies":MAILTO:cas_ed@rutgers.edu
END:VEVENT
END:VCALENDAR